BEGIN:VCALENDAR
VERSION:2.0
PRODID:-//Carol Stream Park District - ECPv6.15.20//NONSGML v1.0//EN
CALSCALE:GREGORIAN
METHOD:PUBLISH
X-ORIGINAL-URL:https://www.csparks.org
X-WR-CALDESC:Events for Carol Stream Park District
REFRESH-INTERVAL;VALUE=DURATION:PT1H
X-Robots-Tag:noindex
X-PUBLISHED-TTL:PT1H
BEGIN:VTIMEZONE
TZID:America/Chicago
BEGIN:DAYLIGHT
TZOFFSETFROM:-0600
TZOFFSETTO:-0500
TZNAME:CDT
DTSTART:20250309T080000
END:DAYLIGHT
BEGIN:STANDARD
TZOFFSETFROM:-0500
TZOFFSETTO:-0600
TZNAME:CST
DTSTART:20251102T070000
END:STANDARD
BEGIN:DAYLIGHT
TZOFFSETFROM:-0600
TZOFFSETTO:-0500
TZNAME:CDT
DTSTART:20260308T080000
END:DAYLIGHT
BEGIN:STANDARD
TZOFFSETFROM:-0500
TZOFFSETTO:-0600
TZNAME:CST
DTSTART:20261101T070000
END:STANDARD
BEGIN:DAYLIGHT
TZOFFSETFROM:-0600
TZOFFSETTO:-0500
TZNAME:CDT
DTSTART:20270314T080000
END:DAYLIGHT
BEGIN:STANDARD
TZOFFSETFROM:-0500
TZOFFSETTO:-0600
TZNAME:CST
DTSTART:20271107T070000
END:STANDARD
END:VTIMEZONE
BEGIN:VEVENT
DTSTART;TZID=America/Chicago:20260328T091500
DTEND;TZID=America/Chicago:20260328T100000
DTSTAMP:20260419T093204
CREATED:20251217T182211Z
LAST-MODIFIED:20260326T141615Z
UID:10009536-1774689300-1774692000@www.csparks.org
SUMMARY:Dual Depth
DESCRIPTION:Using various types of equipment\, this aqua class is very versatile. All moves can be done both shallow and deep.
URL:https://www.csparks.org/event/dual-depth-2/2026-03-28/
LOCATION:Fountain View Fitness\, 910 N. Gary Avenue\, Carol Stream\, IL\, 60188\, United States
CATEGORIES:Aquatics,Group Fitness
GEO:41.9281805;-88.1211983
X-APPLE-STRUCTURED-LOCATION;VALUE=URI;X-ADDRESS=Fountain View Fitness 910 N. Gary Avenue Carol Stream IL 60188 United States;X-APPLE-RADIUS=500;X-TITLE=910 N. Gary Avenue:geo:-88.1211983,41.9281805
END:VEVENT
BEGIN:VEVENT
DTSTART;TZID=America/Chicago:20260328T081500
DTEND;TZID=America/Chicago:20260328T123000
DTSTAMP:20260419T093204
CREATED:20251218T163449Z
LAST-MODIFIED:20251218T163514Z
UID:10009478-1774685700-1774701000@www.csparks.org
SUMMARY:Swim Academy
DESCRIPTION:
URL:https://www.csparks.org/event/swim-academy-3/2026-03-28/
LOCATION:Fountain View Fitness\, 910 N. Gary Avenue\, Carol Stream\, IL\, 60188\, United States
CATEGORIES:Aquatics,Swim Academy
ATTACH;FMTTYPE=image/png:https://www.csparks.org/wp-content/uploads/2025/12/SwimAcademy-logo.png
GEO:41.9281805;-88.1211983
X-APPLE-STRUCTURED-LOCATION;VALUE=URI;X-ADDRESS=Fountain View Fitness 910 N. Gary Avenue Carol Stream IL 60188 United States;X-APPLE-RADIUS=500;X-TITLE=910 N. Gary Avenue:geo:-88.1211983,41.9281805
END:VEVENT
BEGIN:VEVENT
DTSTART;TZID=America/Chicago:20260328T081500
DTEND;TZID=America/Chicago:20260328T090000
DTSTAMP:20260419T093204
CREATED:20251217T174435Z
LAST-MODIFIED:20251217T174435Z
UID:10008092-1774685700-1774688400@www.csparks.org
SUMMARY:Good Morning Yoga
DESCRIPTION:Begin your day with this energizing sequence to awaken the body and give you a positive outlook on the day.
URL:https://www.csparks.org/event/good-morning-yoga/2026-03-28/
LOCATION:Fountain View Fitness\, 910 N. Gary Avenue\, Carol Stream\, IL\, 60188\, United States
CATEGORIES:Group Fitness,Mind/Body
GEO:41.9281805;-88.1211983
X-APPLE-STRUCTURED-LOCATION;VALUE=URI;X-ADDRESS=Fountain View Fitness 910 N. Gary Avenue Carol Stream IL 60188 United States;X-APPLE-RADIUS=500;X-TITLE=910 N. Gary Avenue:geo:-88.1211983,41.9281805
END:VEVENT
BEGIN:VEVENT
DTSTART;TZID=America/Chicago:20260328T080000
DTEND;TZID=America/Chicago:20260328T090000
DTSTAMP:20260419T093204
CREATED:20251217T174333Z
LAST-MODIFIED:20251217T174333Z
UID:10008077-1774684800-1774688400@www.csparks.org
SUMMARY:Lift & Tone
DESCRIPTION:Improve strength and build lean muscle mass to define every major muscle groups. Focus on ab abdominal workouts to strengthen the entire core.
URL:https://www.csparks.org/event/lift-tone/2026-03-28/
LOCATION:Fountain View Fitness\, 910 N. Gary Avenue\, Carol Stream\, IL\, 60188\, United States
CATEGORIES:Cardio/Strength,Group Fitness
GEO:41.9281805;-88.1211983
X-APPLE-STRUCTURED-LOCATION;VALUE=URI;X-ADDRESS=Fountain View Fitness 910 N. Gary Avenue Carol Stream IL 60188 United States;X-APPLE-RADIUS=500;X-TITLE=910 N. Gary Avenue:geo:-88.1211983,41.9281805
END:VEVENT
BEGIN:VEVENT
DTSTART;TZID=America/Chicago:20260328T070000
DTEND;TZID=America/Chicago:20260328T090000
DTSTAMP:20260419T093204
CREATED:20251218T161447Z
LAST-MODIFIED:20251218T161447Z
UID:10009099-1774681200-1774688400@www.csparks.org
SUMMARY:Dolphins Swim Team Practice
DESCRIPTION:
URL:https://www.csparks.org/event/dolphins-swim-team-practice-5/2026-03-28/
LOCATION:Fountain View Fitness\, 910 N. Gary Avenue\, Carol Stream\, IL\, 60188\, United States
CATEGORIES:Aquatics,Dolphins Swim Team
GEO:41.9281805;-88.1211983
X-APPLE-STRUCTURED-LOCATION;VALUE=URI;X-ADDRESS=Fountain View Fitness 910 N. Gary Avenue Carol Stream IL 60188 United States;X-APPLE-RADIUS=500;X-TITLE=910 N. Gary Avenue:geo:-88.1211983,41.9281805
END:VEVENT
BEGIN:VEVENT
DTSTART;TZID=America/Chicago:20260328T070000
DTEND;TZID=America/Chicago:20260328T074500
DTSTAMP:20260419T093204
CREATED:20251217T172358Z
LAST-MODIFIED:20251217T172358Z
UID:10007923-1774681200-1774683900@www.csparks.org
SUMMARY:Bootcamp Express
DESCRIPTION:Timed interval high intensity training mixed with drills\, partner workouts\, body weight and weighted exercises to improve cardiovascular and muscle endurance.
URL:https://www.csparks.org/event/bootcamp-express/2026-03-28/
LOCATION:Fountain View Fitness\, 910 N. Gary Avenue\, Carol Stream\, IL\, 60188\, United States
CATEGORIES:Cardio/Strength,Group Fitness
GEO:41.9281805;-88.1211983
X-APPLE-STRUCTURED-LOCATION;VALUE=URI;X-ADDRESS=Fountain View Fitness 910 N. Gary Avenue Carol Stream IL 60188 United States;X-APPLE-RADIUS=500;X-TITLE=910 N. Gary Avenue:geo:-88.1211983,41.9281805
END:VEVENT
BEGIN:VEVENT
DTSTART;TZID=America/Chicago:20260328T063000
DTEND;TZID=America/Chicago:20260328T073000
DTSTAMP:20260419T093204
CREATED:20251217T171542Z
LAST-MODIFIED:20251217T171542Z
UID:10007846-1774679400-1774683000@www.csparks.org
SUMMARY:Bike N Build
DESCRIPTION:Workout that combines Indoor Cycling endurance with strength training exercises.
URL:https://www.csparks.org/event/bike-n-build-3/2026-03-28/
LOCATION:Fountain View Fitness\, 910 N. Gary Avenue\, Carol Stream\, IL\, 60188\, United States
CATEGORIES:Cycle,Group Fitness
GEO:41.9281805;-88.1211983
X-APPLE-STRUCTURED-LOCATION;VALUE=URI;X-ADDRESS=Fountain View Fitness 910 N. Gary Avenue Carol Stream IL 60188 United States;X-APPLE-RADIUS=500;X-TITLE=910 N. Gary Avenue:geo:-88.1211983,41.9281805
END:VEVENT
BEGIN:VEVENT
DTSTART;TZID=America/Chicago:20260327T190000
DTEND;TZID=America/Chicago:20260327T213000
DTSTAMP:20260419T093204
CREATED:20251218T162817Z
LAST-MODIFIED:20251218T162817Z
UID:10009207-1774638000-1774647000@www.csparks.org
SUMMARY:Open Swim
DESCRIPTION:
URL:https://www.csparks.org/event/open-swim/2026-03-27/
LOCATION:Fountain View Fitness\, 910 N. Gary Avenue\, Carol Stream\, IL\, 60188\, United States
CATEGORIES:Aquatics,Open Swim
GEO:41.9281805;-88.1211983
X-APPLE-STRUCTURED-LOCATION;VALUE=URI;X-ADDRESS=Fountain View Fitness 910 N. Gary Avenue Carol Stream IL 60188 United States;X-APPLE-RADIUS=500;X-TITLE=910 N. Gary Avenue:geo:-88.1211983,41.9281805
END:VEVENT
BEGIN:VEVENT
DTSTART;TZID=America/Chicago:20260327T173000
DTEND;TZID=America/Chicago:20260327T190000
DTSTAMP:20260419T093204
CREATED:20251218T161346Z
LAST-MODIFIED:20251218T161346Z
UID:10009084-1774632600-1774638000@www.csparks.org
SUMMARY:Dolphins Swim Team Practice
DESCRIPTION:
URL:https://www.csparks.org/event/dolphins-swim-team-practice-4/2026-03-27/
LOCATION:Fountain View Fitness\, 910 N. Gary Avenue\, Carol Stream\, IL\, 60188\, United States
CATEGORIES:Aquatics,Dolphins Swim Team
GEO:41.9281805;-88.1211983
X-APPLE-STRUCTURED-LOCATION;VALUE=URI;X-ADDRESS=Fountain View Fitness 910 N. Gary Avenue Carol Stream IL 60188 United States;X-APPLE-RADIUS=500;X-TITLE=910 N. Gary Avenue:geo:-88.1211983,41.9281805
END:VEVENT
BEGIN:VEVENT
DTSTART;TZID=America/Chicago:20260327T160000
DTEND;TZID=America/Chicago:20260327T191500
DTSTAMP:20260419T093204
CREATED:20251218T163300Z
LAST-MODIFIED:20251218T163350Z
UID:10009463-1774627200-1774638900@www.csparks.org
SUMMARY:Swim Academy
DESCRIPTION:
URL:https://www.csparks.org/event/swim-academy-2/2026-03-27/
LOCATION:Fountain View Fitness\, 910 N. Gary Avenue\, Carol Stream\, IL\, 60188\, United States
CATEGORIES:Aquatics,Swim Academy
ATTACH;FMTTYPE=image/png:https://www.csparks.org/wp-content/uploads/2025/12/SwimAcademy-logo.png
GEO:41.9281805;-88.1211983
X-APPLE-STRUCTURED-LOCATION;VALUE=URI;X-ADDRESS=Fountain View Fitness 910 N. Gary Avenue Carol Stream IL 60188 United States;X-APPLE-RADIUS=500;X-TITLE=910 N. Gary Avenue:geo:-88.1211983,41.9281805
END:VEVENT
BEGIN:VEVENT
DTSTART;TZID=America/Chicago:20260327T160000
DTEND;TZID=America/Chicago:20260327T173000
DTSTAMP:20260419T093204
CREATED:20251218T162105Z
LAST-MODIFIED:20251218T162105Z
UID:10009177-1774627200-1774632600@www.csparks.org
SUMMARY:Glenbard North Swim Team
DESCRIPTION:
URL:https://www.csparks.org/event/glenbard-north-swim-team-2/2026-03-27/
LOCATION:Fountain View Fitness\, 910 N. Gary Avenue\, Carol Stream\, IL\, 60188\, United States
CATEGORIES:Aquatics,High School Swim Team
GEO:41.9281805;-88.1211983
X-APPLE-STRUCTURED-LOCATION;VALUE=URI;X-ADDRESS=Fountain View Fitness 910 N. Gary Avenue Carol Stream IL 60188 United States;X-APPLE-RADIUS=500;X-TITLE=910 N. Gary Avenue:geo:-88.1211983,41.9281805
END:VEVENT
BEGIN:VEVENT
DTSTART;TZID=America/Chicago:20260327T150000
DTEND;TZID=America/Chicago:20260327T194500
DTSTAMP:20260419T093204
CREATED:20251218T160455Z
LAST-MODIFIED:20251218T160455Z
UID:10009006-1774623600-1774640700@www.csparks.org
SUMMARY:Open Gym (Youth)
DESCRIPTION:
URL:https://www.csparks.org/event/open-gym-youth-4/2026-03-27/
LOCATION:Fountain View Fitness\, 910 N. Gary Avenue\, Carol Stream\, IL\, 60188\, United States
CATEGORIES:Open Gym,Youth
GEO:41.9281805;-88.1211983
X-APPLE-STRUCTURED-LOCATION;VALUE=URI;X-ADDRESS=Fountain View Fitness 910 N. Gary Avenue Carol Stream IL 60188 United States;X-APPLE-RADIUS=500;X-TITLE=910 N. Gary Avenue:geo:-88.1211983,41.9281805
END:VEVENT
BEGIN:VEVENT
DTSTART;TZID=America/Chicago:20260327T120000
DTEND;TZID=America/Chicago:20260327T140000
DTSTAMP:20260419T093204
CREATED:20251218T155959Z
LAST-MODIFIED:20251218T155959Z
UID:10008924-1774612800-1774620000@www.csparks.org
SUMMARY:Open Gym (Fitness Members Only)
DESCRIPTION:
URL:https://www.csparks.org/event/open-gym-fitness-members-only-2/2026-03-27/
LOCATION:Fountain View Fitness\, 910 N. Gary Avenue\, Carol Stream\, IL\, 60188\, United States
CATEGORIES:Members Only,Open Gym
GEO:41.9281805;-88.1211983
X-APPLE-STRUCTURED-LOCATION;VALUE=URI;X-ADDRESS=Fountain View Fitness 910 N. Gary Avenue Carol Stream IL 60188 United States;X-APPLE-RADIUS=500;X-TITLE=910 N. Gary Avenue:geo:-88.1211983,41.9281805
END:VEVENT
BEGIN:VEVENT
DTSTART;TZID=America/Chicago:20260327T103000
DTEND;TZID=America/Chicago:20260327T113000
DTSTAMP:20260419T093204
CREATED:20260414T023955Z
LAST-MODIFIED:20260414T025120Z
UID:10013571-1774607400-1774611000@www.csparks.org
SUMMARY:Gentle Morning Yoga
DESCRIPTION:
URL:https://www.csparks.org/event/gentle-morning-yoga/2026-03-27/
LOCATION:Fountain View Fitness\, 910 N. Gary Avenue\, Carol Stream\, IL\, 60188\, United States
CATEGORIES:Group Fitness,Mind/Body
GEO:41.9281805;-88.1211983
X-APPLE-STRUCTURED-LOCATION;VALUE=URI;X-ADDRESS=Fountain View Fitness 910 N. Gary Avenue Carol Stream IL 60188 United States;X-APPLE-RADIUS=500;X-TITLE=910 N. Gary Avenue:geo:-88.1211983,41.9281805
END:VEVENT
BEGIN:VEVENT
DTSTART;TZID=America/Chicago:20260327T103000
DTEND;TZID=America/Chicago:20260327T113000
DTSTAMP:20260419T093204
CREATED:20260326T141753Z
LAST-MODIFIED:20260326T141807Z
UID:10008578-1774607400-1774611000@www.csparks.org
SUMMARY:Yoga
DESCRIPTION:Classic yoga poses taught with modifications so that anyone can enjoy the peaceful stretching and strengthening exercises that move the entire body into alignment. Class ends with a meditation practice designed to reduce stress\, boost the immune system and improve sleep.
URL:https://www.csparks.org/event/yoga-4/
LOCATION:Fountain View Fitness\, 910 N. Gary Avenue\, Carol Stream\, IL\, 60188\, United States
CATEGORIES:Group Fitness,Mind/Body
GEO:41.9281805;-88.1211983
X-APPLE-STRUCTURED-LOCATION;VALUE=URI;X-ADDRESS=Fountain View Fitness 910 N. Gary Avenue Carol Stream IL 60188 United States;X-APPLE-RADIUS=500;X-TITLE=910 N. Gary Avenue:geo:-88.1211983,41.9281805
END:VEVENT
BEGIN:VEVENT
DTSTART;TZID=America/Chicago:20260327T103000
DTEND;TZID=America/Chicago:20260327T111500
DTSTAMP:20260419T093204
CREATED:20251217T182711Z
LAST-MODIFIED:20251217T182711Z
UID:10008341-1774607400-1774610100@www.csparks.org
SUMMARY:Balance\, Strength\, Stretch
DESCRIPTION:Slower paced cardio strength training\, exercise to challenge balance and stretching to help the body move.
URL:https://www.csparks.org/event/balance-strength-stretch/2026-03-27/
LOCATION:Fountain View Fitness\, 910 N. Gary Avenue\, Carol Stream\, IL\, 60188\, United States
CATEGORIES:Cardio/Strength,Group Fitness
GEO:41.9281805;-88.1211983
X-APPLE-STRUCTURED-LOCATION;VALUE=URI;X-ADDRESS=Fountain View Fitness 910 N. Gary Avenue Carol Stream IL 60188 United States;X-APPLE-RADIUS=500;X-TITLE=910 N. Gary Avenue:geo:-88.1211983,41.9281805
END:VEVENT
BEGIN:VEVENT
DTSTART;TZID=America/Chicago:20260327T093000
DTEND;TZID=America/Chicago:20260327T101500
DTSTAMP:20260419T093204
CREATED:20251217T174019Z
LAST-MODIFIED:20251217T174019Z
UID:10008047-1774603800-1774606500@www.csparks.org
SUMMARY:Cardio Dance
DESCRIPTION:Incorporates many forms of dance. Aerobic workout\, divided into different tracks like hip hop\, today’s music\, oldies\, Latin and more that provide peaks and troughs of intensity.
URL:https://www.csparks.org/event/cardio-dance-3/2026-03-27/
LOCATION:Fountain View Fitness\, 910 N. Gary Avenue\, Carol Stream\, IL\, 60188\, United States
CATEGORIES:Dance,Group Fitness
GEO:41.9281805;-88.1211983
X-APPLE-STRUCTURED-LOCATION;VALUE=URI;X-ADDRESS=Fountain View Fitness 910 N. Gary Avenue Carol Stream IL 60188 United States;X-APPLE-RADIUS=500;X-TITLE=910 N. Gary Avenue:geo:-88.1211983,41.9281805
END:VEVENT
BEGIN:VEVENT
DTSTART;TZID=America/Chicago:20260327T091500
DTEND;TZID=America/Chicago:20260327T101500
DTSTAMP:20260419T093204
CREATED:20251217T175323Z
LAST-MODIFIED:20251217T175323Z
UID:10008139-1774602900-1774606500@www.csparks.org
SUMMARY:Total Strength
DESCRIPTION:A dynamic\, full body strength training class that combines traditional lifting with functional movements for a comprehensive workout. Participants will use barbells\, dumbbells\, kettlebells\, resistance bands\, & more.
URL:https://www.csparks.org/event/total-strength-2/2026-03-27/
LOCATION:Fountain View Fitness\, 910 N. Gary Avenue\, Carol Stream\, IL\, 60188\, United States
CATEGORIES:Cardio/Strength,Group Fitness
GEO:41.9281805;-88.1211983
X-APPLE-STRUCTURED-LOCATION;VALUE=URI;X-ADDRESS=Fountain View Fitness 910 N. Gary Avenue Carol Stream IL 60188 United States;X-APPLE-RADIUS=500;X-TITLE=910 N. Gary Avenue:geo:-88.1211983,41.9281805
END:VEVENT
BEGIN:VEVENT
DTSTART;TZID=America/Chicago:20260327T090000
DTEND;TZID=America/Chicago:20260327T094500
DTSTAMP:20260419T093204
CREATED:20251217T182552Z
LAST-MODIFIED:20251217T182552Z
UID:10008326-1774602000-1774604700@www.csparks.org
SUMMARY:Aqua Zumba™
DESCRIPTION:Bring the Zumba dance party to the pool. The water’s resistance gives muscle toning\, heart pumping moves\, while buoyancy keeps joints protected.
URL:https://www.csparks.org/event/aqua-zumba-2/2026-03-27/
LOCATION:Fountain View Fitness\, 910 N. Gary Avenue\, Carol Stream\, IL\, 60188\, United States
CATEGORIES:Aquatics,Group Fitness
GEO:41.9281805;-88.1211983
X-APPLE-STRUCTURED-LOCATION;VALUE=URI;X-ADDRESS=Fountain View Fitness 910 N. Gary Avenue Carol Stream IL 60188 United States;X-APPLE-RADIUS=500;X-TITLE=910 N. Gary Avenue:geo:-88.1211983,41.9281805
END:VEVENT
BEGIN:VEVENT
DTSTART;TZID=America/Chicago:20260327T063000
DTEND;TZID=America/Chicago:20260327T071500
DTSTAMP:20260419T093204
CREATED:20251217T172206Z
LAST-MODIFIED:20251217T172231Z
UID:10007908-1774593000-1774595700@www.csparks.org
SUMMARY:Rise & Align Yoga
DESCRIPTION:Mindful flow poses with held restorative poses incorporating a therapeutic approach for the joints.
URL:https://www.csparks.org/event/rise-align-yoga-3/2026-03-27/
LOCATION:Fountain View Fitness\, 910 N. Gary Avenue\, Carol Stream\, IL\, 60188\, United States
CATEGORIES:Group Fitness,Mind/Body
GEO:41.9281805;-88.1211983
X-APPLE-STRUCTURED-LOCATION;VALUE=URI;X-ADDRESS=Fountain View Fitness 910 N. Gary Avenue Carol Stream IL 60188 United States;X-APPLE-RADIUS=500;X-TITLE=910 N. Gary Avenue:geo:-88.1211983,41.9281805
END:VEVENT
BEGIN:VEVENT
DTSTART;TZID=America/Chicago:20260326T183000
DTEND;TZID=America/Chicago:20260326T193000
DTSTAMP:20260419T093204
CREATED:20251218T161144Z
LAST-MODIFIED:20251218T161144Z
UID:10009069-1774549800-1774553400@www.csparks.org
SUMMARY:Dolphins Swim Team Practice
DESCRIPTION:
URL:https://www.csparks.org/event/dolphins-swim-team-practice-3/2026-03-26/
LOCATION:Fountain View Fitness\, 910 N. Gary Avenue\, Carol Stream\, IL\, 60188\, United States
CATEGORIES:Aquatics,Dolphins Swim Team
GEO:41.9281805;-88.1211983
X-APPLE-STRUCTURED-LOCATION;VALUE=URI;X-ADDRESS=Fountain View Fitness 910 N. Gary Avenue Carol Stream IL 60188 United States;X-APPLE-RADIUS=500;X-TITLE=910 N. Gary Avenue:geo:-88.1211983,41.9281805
END:VEVENT
BEGIN:VEVENT
DTSTART;TZID=America/Chicago:20260326T181500
DTEND;TZID=America/Chicago:20260326T191500
DTSTAMP:20260419T093204
CREATED:20251218T151322Z
LAST-MODIFIED:20251218T151322Z
UID:10008658-1774548900-1774552500@www.csparks.org
SUMMARY:Body Circuit
DESCRIPTION:A total body fat burning workout with limited rest periods alternating between cardio and weight training.
URL:https://www.csparks.org/event/body-circuit-2/2026-03-26/
LOCATION:Fountain View Fitness\, 910 N. Gary Avenue\, Carol Stream\, IL\, 60188\, United States
CATEGORIES:Cardio/Strength,Group Fitness
GEO:41.9281805;-88.1211983
X-APPLE-STRUCTURED-LOCATION;VALUE=URI;X-ADDRESS=Fountain View Fitness 910 N. Gary Avenue Carol Stream IL 60188 United States;X-APPLE-RADIUS=500;X-TITLE=910 N. Gary Avenue:geo:-88.1211983,41.9281805
END:VEVENT
BEGIN:VEVENT
DTSTART;TZID=America/Chicago:20260326T180000
DTEND;TZID=America/Chicago:20260326T184500
DTSTAMP:20260419T093204
CREATED:20251217T183957Z
LAST-MODIFIED:20251217T183957Z
UID:10008468-1774548000-1774550700@www.csparks.org
SUMMARY:Tai Chi
DESCRIPTION:The peaceful Chinese form of exercise can be practiced by any age. The health benefits include: improved circulation\, balance\, and posture\, increased strength\, flexibility and reduces stress. This practice benefits tendons\, joints\, spine connective tissue\, and internal organs. It restores calmness and peace of mind.
URL:https://www.csparks.org/event/tai-chi-2/2026-03-26/
LOCATION:Fountain View Fitness\, 910 N. Gary Avenue\, Carol Stream\, IL\, 60188\, United States
CATEGORIES:Group Fitness,Mind/Body
GEO:41.9281805;-88.1211983
X-APPLE-STRUCTURED-LOCATION;VALUE=URI;X-ADDRESS=Fountain View Fitness 910 N. Gary Avenue Carol Stream IL 60188 United States;X-APPLE-RADIUS=500;X-TITLE=910 N. Gary Avenue:geo:-88.1211983,41.9281805
END:VEVENT
BEGIN:VEVENT
DTSTART;TZID=America/Chicago:20260326T174500
DTEND;TZID=America/Chicago:20260326T183000
DTSTAMP:20260419T093204
CREATED:20251218T154334Z
LAST-MODIFIED:20251218T154334Z
UID:10008816-1774547100-1774549800@www.csparks.org
SUMMARY:Aqua H.E.A.T
DESCRIPTION:The name says it all. Set your body on fire with this full body aqua cardio/strength challenge that will incorporate higher intensity cardio intervals.
URL:https://www.csparks.org/event/aqua-h-e-a-t/2026-03-26/
LOCATION:Fountain View Fitness\, 910 N. Gary Avenue\, Carol Stream\, IL\, 60188\, United States
CATEGORIES:Aquatics,Group Fitness
GEO:41.9281805;-88.1211983
X-APPLE-STRUCTURED-LOCATION;VALUE=URI;X-ADDRESS=Fountain View Fitness 910 N. Gary Avenue Carol Stream IL 60188 United States;X-APPLE-RADIUS=500;X-TITLE=910 N. Gary Avenue:geo:-88.1211983,41.9281805
END:VEVENT
BEGIN:VEVENT
DTSTART;TZID=America/Chicago:20260326T170000
DTEND;TZID=America/Chicago:20260326T180000
DTSTAMP:20260419T093204
CREATED:20251218T154233Z
LAST-MODIFIED:20251218T154233Z
UID:10008801-1774544400-1774548000@www.csparks.org
SUMMARY:TRX Interval Blast
DESCRIPTION:Alternating intervals of high and low intensity cardio\, strength intervals\, core workouts which increases heart rate to burn calories\, strengthen muscles and tone entire core.
URL:https://www.csparks.org/event/trx-interval-blast/2026-03-26/
LOCATION:Fountain View Fitness\, 910 N. Gary Avenue\, Carol Stream\, IL\, 60188\, United States
CATEGORIES:Cardio/Strength,Group Fitness
GEO:41.9281805;-88.1211983
X-APPLE-STRUCTURED-LOCATION;VALUE=URI;X-ADDRESS=Fountain View Fitness 910 N. Gary Avenue Carol Stream IL 60188 United States;X-APPLE-RADIUS=500;X-TITLE=910 N. Gary Avenue:geo:-88.1211983,41.9281805
END:VEVENT
BEGIN:VEVENT
DTSTART;TZID=America/Chicago:20260326T163000
DTEND;TZID=America/Chicago:20260326T191500
DTSTAMP:20260419T093204
CREATED:20251218T163159Z
LAST-MODIFIED:20251218T163159Z
UID:10009298-1774542600-1774552500@www.csparks.org
SUMMARY:Swim Academy
DESCRIPTION:
URL:https://www.csparks.org/event/swim-academy/2026-03-26/
LOCATION:Fountain View Fitness\, 910 N. Gary Avenue\, Carol Stream\, IL\, 60188\, United States
CATEGORIES:Aquatics,Swim Academy
ATTACH;FMTTYPE=image/png:https://www.csparks.org/wp-content/uploads/2025/12/SwimAcademy-logo.png
GEO:41.9281805;-88.1211983
X-APPLE-STRUCTURED-LOCATION;VALUE=URI;X-ADDRESS=Fountain View Fitness 910 N. Gary Avenue Carol Stream IL 60188 United States;X-APPLE-RADIUS=500;X-TITLE=910 N. Gary Avenue:geo:-88.1211983,41.9281805
END:VEVENT
BEGIN:VEVENT
DTSTART;TZID=America/Chicago:20260326T160000
DTEND;TZID=America/Chicago:20260326T174500
DTSTAMP:20260419T093204
CREATED:20251218T161641Z
LAST-MODIFIED:20251218T161641Z
UID:10009159-1774540800-1774547100@www.csparks.org
SUMMARY:Glenbard North Swim Team
DESCRIPTION:
URL:https://www.csparks.org/event/glenbard-north-swim-team/2026-03-26/
LOCATION:Fountain View Fitness\, 910 N. Gary Avenue\, Carol Stream\, IL\, 60188\, United States
CATEGORIES:Aquatics,High School Swim Team
GEO:41.9281805;-88.1211983
X-APPLE-STRUCTURED-LOCATION;VALUE=URI;X-ADDRESS=Fountain View Fitness 910 N. Gary Avenue Carol Stream IL 60188 United States;X-APPLE-RADIUS=500;X-TITLE=910 N. Gary Avenue:geo:-88.1211983,41.9281805
END:VEVENT
BEGIN:VEVENT
DTSTART;TZID=America/Chicago:20260326T150000
DTEND;TZID=America/Chicago:20260326T173000
DTSTAMP:20260419T093204
CREATED:20251218T160259Z
LAST-MODIFIED:20251218T160259Z
UID:10008974-1774537200-1774546200@www.csparks.org
SUMMARY:Open Gym (Youth)
DESCRIPTION:
URL:https://www.csparks.org/event/open-gym-youth-2/2026-03-26/
LOCATION:Fountain View Fitness\, 910 N. Gary Avenue\, Carol Stream\, IL\, 60188\, United States
CATEGORIES:Open Gym,Youth
GEO:41.9281805;-88.1211983
X-APPLE-STRUCTURED-LOCATION;VALUE=URI;X-ADDRESS=Fountain View Fitness 910 N. Gary Avenue Carol Stream IL 60188 United States;X-APPLE-RADIUS=500;X-TITLE=910 N. Gary Avenue:geo:-88.1211983,41.9281805
END:VEVENT
BEGIN:VEVENT
DTSTART;TZID=America/Chicago:20260326T120000
DTEND;TZID=America/Chicago:20260326T140000
DTSTAMP:20260419T093204
CREATED:20251218T155959Z
LAST-MODIFIED:20251218T155959Z
UID:10008923-1774526400-1774533600@www.csparks.org
SUMMARY:Open Gym (Fitness Members Only)
DESCRIPTION:
URL:https://www.csparks.org/event/open-gym-fitness-members-only-2/2026-03-26/
LOCATION:Fountain View Fitness\, 910 N. Gary Avenue\, Carol Stream\, IL\, 60188\, United States
CATEGORIES:Members Only,Open Gym
GEO:41.9281805;-88.1211983
X-APPLE-STRUCTURED-LOCATION;VALUE=URI;X-ADDRESS=Fountain View Fitness 910 N. Gary Avenue Carol Stream IL 60188 United States;X-APPLE-RADIUS=500;X-TITLE=910 N. Gary Avenue:geo:-88.1211983,41.9281805
END:VEVENT
BEGIN:VEVENT
DTSTART;TZID=America/Chicago:20260326T103000
DTEND;TZID=America/Chicago:20260326T111500
DTSTAMP:20260419T093204
CREATED:20251218T145902Z
LAST-MODIFIED:20251218T145902Z
UID:10008562-1774521000-1774523700@www.csparks.org
SUMMARY:Pilates Core Fusion
DESCRIPTION:A workout that combines Pilates\, Barre\, and Dance to build lean muscles\, increase stamina\, and burn calories.
URL:https://www.csparks.org/event/pilates-core-fusion/2026-03-26/
LOCATION:Fountain View Fitness\, 910 N. Gary Avenue\, Carol Stream\, IL\, 60188\, United States
CATEGORIES:Cardio/Strength,Group Fitness
GEO:41.9281805;-88.1211983
X-APPLE-STRUCTURED-LOCATION;VALUE=URI;X-ADDRESS=Fountain View Fitness 910 N. Gary Avenue Carol Stream IL 60188 United States;X-APPLE-RADIUS=500;X-TITLE=910 N. Gary Avenue:geo:-88.1211983,41.9281805
END:VEVENT
END:VCALENDAR